BEGIN:VCALENDAR
VERSION:2.0
PRODID:-//pretix//Digitaler_Dienst_GmbH//
BEGIN:VTIMEZONE
TZID:Europe/Berlin
BEGIN:STANDARD
DTSTART:20001029T040000
RRULE:FREQ=YEARLY;BYDAY=-1SU;BYMONTH=10
TZNAME:CET
TZOFFSETFROM:+0200
TZOFFSETTO:+0100
END:STANDARD
BEGIN:DAYLIGHT
DTSTART:20000326T030000
RRULE:FREQ=YEARLY;BYDAY=-1SU;BYMONTH=3
TZNAME:CEST
TZOFFSETFROM:+0100
TZOFFSETTO:+0200
END:DAYLIGHT
END:VTIMEZONE
BEGIN:VEVENT
UID:pretix-tj-releaseparty-23-0@tickets.wasted-openair.de
DTSTART;TZID=Europe/Berlin:20231117T190000
DTEND;TZID=Europe/Berlin:20231117T200000
DESCRIPTION:Tickets: https://tickets.wasted-openair.de/releaseparty-23/\nVe
 ranstalter: Turbojugend Schlachthaus e.V.
DTSTAMP:20260420T083215Z
LOCATION:Zentralcafe Kaya e.V.\,\, Königstr. 93\,\, 90402 Nürnberg
SUMMARY:ØL-Releaseparty with LÜT\, Driptorch & Hibernation
END:VEVENT
END:VCALENDAR
